BEGIN:VCALENDAR
VERSION:2.0
PRODID:icalendar-ruby
CALSCALE:GREGORIAN
METHOD:PUBLISH
BEGIN:VEVENT
DTSTAMP:20260424T142538Z
UID:57-177475@alsburybaptist.com
DTSTART:20260614T220000Z
DTEND:20260614T230000Z
CLASS:PUBLIC
CREATED:20260423T161733
DESCRIPTION:\nOur new members class is an opportunity to find out more abou
 t who we are and what we believe. It is a great way to learn about the chu
 rch\, get plugged into ABC\, and see why being committed and belonging to 
 the church through membership can help you and others in many ways. Even i
 f you decide not to join\, we hope it is a blessing nevertheless.\n\n\n\nN
 ew Member's Class meets on the 2nd Sunday of the month. Let us know which 
 month you are planning to attend.\n\n\n
LAST-MODIFIED:20260423T161733
LOCATION:Upstairs Café
SUMMARY:New Members Class
URL;VALUE=URI:https://alsburybaptist.net/events/new-members-class/2026-06-1
 4
ATTACH;FILENAME=NMC-2-nmc_ws.png;FMTTYPE=image/png:https://dq5pwpg1q8ru0.cl
 oudfront.net/2025/09/26/16/25/14/e3d1e324-f878-4f8c-9eb1-f7f28d287088/NMC-
 2-nmc_ws.png
END:VEVENT
END:VCALENDAR
